BEGIN:VCALENDAR
VERSION:2.0
PRODID:-//Pinal County Water Augmentation Authority - ECPv6.15.20//NONSGML v1.0//EN
CALSCALE:GREGORIAN
METHOD:PUBLISH
X-WR-CALNAME:Pinal County Water Augmentation Authority
X-ORIGINAL-URL:https://pcwaa-az.org
X-WR-CALDESC:Events for Pinal County Water Augmentation Authority
REFRESH-INTERVAL;VALUE=DURATION:PT1H
X-Robots-Tag:noindex
X-PUBLISHED-TTL:PT1H
BEGIN:VTIMEZONE
TZID:UTC
BEGIN:STANDARD
TZOFFSETFROM:+0000
TZOFFSETTO:+0000
TZNAME:UTC
DTSTART:20180101T000000
END:STANDARD
END:VTIMEZONE
BEGIN:VEVENT
DTSTART;TZID=UTC:20190919T140000
DTEND;TZID=UTC:20190919T150000
DTSTAMP:20260419T135531
CREATED:20190917T164552Z
LAST-MODIFIED:20190917T164552Z
UID:402-1568901600-1568905200@pcwaa-az.org
SUMMARY:Special Board Meeting
DESCRIPTION:Special meeting of the Board to deliberate proceeding with negotiations to engage a lobbyist to work on PCWAA issues
URL:https://pcwaa-az.org/event/special-board-meeting-4/
LOCATION:Pinal County Complex – Casa Grande\, 820 E. Cottonwood Building A\, Casa Grande\, AZ\, United States
ORGANIZER;CN="Joe Singleton":MAILTO:jsingleton@pcwaa-az.org
END:VEVENT
END:VCALENDAR