BEGIN:VCALENDAR
VERSION:2.0
PRODID:-//Pinal County Water Augmentation Authority - ECPv6.15.20//NONSGML v1.0//EN
CALSCALE:GREGORIAN
METHOD:PUBLISH
X-ORIGINAL-URL:https://pcwaa-az.org
X-WR-CALDESC:Events for Pinal County Water Augmentation Authority
REFRESH-INTERVAL;VALUE=DURATION:PT1H
X-Robots-Tag:noindex
X-PUBLISHED-TTL:PT1H
BEGIN:VTIMEZONE
TZID:UTC
BEGIN:STANDARD
TZOFFSETFROM:+0000
TZOFFSETTO:+0000
TZNAME:UTC
DTSTART:20180101T000000
END:STANDARD
END:VTIMEZONE
BEGIN:VEVENT
DTSTART;TZID=UTC:20191021T133000
DTEND;TZID=UTC:20191021T170000
DTSTAMP:20260419T151910
CREATED:20191017T213652Z
LAST-MODIFIED:20191017T213828Z
UID:433-1571664600-1571677200@pcwaa-az.org
SUMMARY:Possible Quorum of the PCWAA
DESCRIPTION:The House Ad Hoc Committee on Groundwater Supply in Pinal County will hold its third hearing in Florence beginning at 1:30 P.M. A quorum of the Pinal County Water Augmentation Authority may be present at the meeting.  The Authority will take no action at this meeting.
URL:https://pcwaa-az.org/event/possible-quorum-of-the-pcwaa-2/
LOCATION:Pinal County Administrative Comlex – BOS Hearing Room\, 135 N. Pinal Street\, Florence\, AZ\, 85132\, United States
ORGANIZER;CN="Joe Singleton":MAILTO:jsingleton@pcwaa-az.org
END:VEVENT
END:VCALENDAR