BEGIN:VCALENDAR
VERSION:2.0
PRODID:-//Pinal County Water Augmentation Authority - ECPv6.15.20//NONSGML v1.0//EN
CALSCALE:GREGORIAN
METHOD:PUBLISH
X-WR-CALNAME:Pinal County Water Augmentation Authority
X-ORIGINAL-URL:https://pcwaa-az.org
X-WR-CALDESC:Events for Pinal County Water Augmentation Authority
REFRESH-INTERVAL;VALUE=DURATION:PT1H
X-Robots-Tag:noindex
X-PUBLISHED-TTL:PT1H
BEGIN:VTIMEZONE
TZID:UTC
BEGIN:STANDARD
TZOFFSETFROM:+0000
TZOFFSETTO:+0000
TZNAME:UTC
DTSTART:20210101T000000
END:STANDARD
END:VTIMEZONE
BEGIN:VEVENT
DTSTART;TZID=UTC:20220916T080000
DTEND;TZID=UTC:20220916T150000
DTSTAMP:20260422T023854
CREATED:20220908T212039Z
LAST-MODIFIED:20220908T212039Z
UID:820-1663315200-1663340400@pcwaa-az.org
SUMMARY:Agribusiness and Water Council of Arizona - Annual Meeting
DESCRIPTION:Pursuant to A.R.S. Section 38-431.02(A)(1) public notice is hereby given that a quorum of the Pinal County Water Augmentation Authority Board may be present during this meeting.  No business on behalf of the Pinal County Water Augmentation Authority Board will discussed or voted upon.
URL:https://pcwaa-az.org/event/agribusiness-and-water-council-of-arizona-annual-meeting/
LOCATION:1 E. Continenetal Drive Tempe\, AZ 85257\, 1 E. Continental Dr.\, Tempe\, AZ\, 85257\, United States
END:VEVENT
END:VCALENDAR