BEGIN:VCALENDAR
VERSION:2.0
PRODID:-//Pinal County Water Augmentation Authority - ECPv6.15.20//NONSGML v1.0//EN
CALSCALE:GREGORIAN
METHOD:PUBLISH
X-WR-CALNAME:Pinal County Water Augmentation Authority
X-ORIGINAL-URL:https://pcwaa-az.org
X-WR-CALDESC:Events for Pinal County Water Augmentation Authority
REFRESH-INTERVAL;VALUE=DURATION:PT1H
X-Robots-Tag:noindex
X-PUBLISHED-TTL:PT1H
BEGIN:VTIMEZONE
TZID:UTC
BEGIN:STANDARD
TZOFFSETFROM:+0000
TZOFFSETTO:+0000
TZNAME:UTC
DTSTART:20220101T000000
END:STANDARD
END:VTIMEZONE
BEGIN:VEVENT
DTSTART;TZID=UTC:20231103T090000
DTEND;TZID=UTC:20231103T100000
DTSTAMP:20260423T083924
CREATED:20231101T232752Z
LAST-MODIFIED:20250726T121745Z
UID:1000-1699002000-1699005600@pcwaa-az.org
SUMMARY:Special Board Meeting
DESCRIPTION:Special monthly meeting.  NOTE – This meeting will be held remotely through technological means\, as permitted under Arizona law.  Members of the public are encouraged to participate via telephone by dialing +1-669-900-6833 at the appropriate time and entering 83246325367# and 146492 when prompted. \nPursuant to A.R.S. Section 38-431.02(A)(1)\, public notice is hereby given that a QUORUM of the Pinal AMA Groundwater Users Advisory Council may be present during the meeting.  No business on behalf of the Groundwater Users Advisory Council will be discussed or voted upon.
URL:https://pcwaa-az.org/event/special-board-meeting-16/
LOCATION:AZ
ORGANIZER;CN="Joe Singleton":MAILTO:jsingleton@pcwaa-az.org
END:VEVENT
END:VCALENDAR