BEGIN:VCALENDAR
VERSION:2.0
PRODID:-//Pinal County Water Augmentation Authority - ECPv6.15.20//NONSGML v1.0//EN
CALSCALE:GREGORIAN
METHOD:PUBLISH
X-WR-CALNAME:Pinal County Water Augmentation Authority
X-ORIGINAL-URL:https://pcwaa-az.org
X-WR-CALDESC:Events for Pinal County Water Augmentation Authority
REFRESH-INTERVAL;VALUE=DURATION:PT1H
X-Robots-Tag:noindex
X-PUBLISHED-TTL:PT1H
BEGIN:VTIMEZONE
TZID:UTC
BEGIN:STANDARD
TZOFFSETFROM:+0000
TZOFFSETTO:+0000
TZNAME:UTC
DTSTART:20230101T000000
END:STANDARD
END:VTIMEZONE
BEGIN:VEVENT
DTSTART;TZID=UTC:20240628T093000
DTEND;TZID=UTC:20240628T110000
DTSTAMP:20260419T165029
CREATED:20240624T221824Z
LAST-MODIFIED:20240624T221824Z
UID:1087-1719567000-1719572400@pcwaa-az.org
SUMMARY:Ag to Urban: Pinal AMA Working Group
DESCRIPTION:Pursuant to A.R.S. Section 38-431.02(A)(1)\, public notice is hereby given that a QUORUM of the Pinal County Water Augmentation Authority (PCWAA) and the Groundwater Users Advisor Council (GUAC) of the Pinal Active Management Area may be present during the Ag to Urban: Pinal AMA Working Group meeting.  No business on behalf of the PCWAA or the GUAC will be discussed or voted upon.
URL:https://pcwaa-az.org/event/ag-to-urban-pinal-ama-working-group/
LOCATION:1825 W. Adams St. Phoenic\, AZ  85007\, 1825 W. Adams St\, Phoenix\, AZ\, 85007
END:VEVENT
END:VCALENDAR