BEGIN:VCALENDAR
VERSION:2.0
PRODID:-//Pinal County Water Augmentation Authority - ECPv6.15.20//NONSGML v1.0//EN
CALSCALE:GREGORIAN
METHOD:PUBLISH
X-WR-CALNAME:Pinal County Water Augmentation Authority
X-ORIGINAL-URL:https://pcwaa-az.org
X-WR-CALDESC:Events for Pinal County Water Augmentation Authority
REFRESH-INTERVAL;VALUE=DURATION:PT1H
X-Robots-Tag:noindex
X-PUBLISHED-TTL:PT1H
BEGIN:VTIMEZONE
TZID:UTC
BEGIN:STANDARD
TZOFFSETFROM:+0000
TZOFFSETTO:+0000
TZNAME:UTC
DTSTART:20230101T000000
END:STANDARD
END:VTIMEZONE
BEGIN:VEVENT
DTSTART;TZID=UTC:20241113T140000
DTEND;TZID=UTC:20241113T150000
DTSTAMP:20260420T032830
CREATED:20241112T182010Z
LAST-MODIFIED:20241112T182210Z
UID:1136-1731506400-1731510000@pcwaa-az.org
SUMMARY:PCWAA Small Group-PCWAA Bonding and Finance
DESCRIPTION:Non-Quorum meeting for purposes of discussing financing options available to PCWAA to inform a future discussion of the Board.  No votes will be taken.  NOTE – This meeting will be held through technological means\, as permitted under Arizona law.  Members of the public are encouraged to participate as detailed below. \n\n\n\n\n\n\n\nJoin with Google Meet\n\n\n\n\n\n\n\n\n\n\n\nMeeting link\n\n\n\n\nmeet.google.com/omh-bfyi-uqw\n\n\n\n\n\n\n\nJoin by phone\n\n\n\n\n(US) +1 470-242-8737\nPIN: 461612799 \nMore phone numbers
URL:https://pcwaa-az.org/event/pcwaa-small-group-pcwaa-bonding-and-finance/
LOCATION:AZ
END:VEVENT
END:VCALENDAR