BEGIN:VCALENDAR
VERSION:2.0
PRODID:-//Pinal County Water Augmentation Authority - ECPv6.15.20//NONSGML v1.0//EN
CALSCALE:GREGORIAN
METHOD:PUBLISH
X-WR-CALNAME:Pinal County Water Augmentation Authority
X-ORIGINAL-URL:https://pcwaa-az.org
X-WR-CALDESC:Events for Pinal County Water Augmentation Authority
REFRESH-INTERVAL;VALUE=DURATION:PT1H
X-Robots-Tag:noindex
X-PUBLISHED-TTL:PT1H
BEGIN:VTIMEZONE
TZID:UTC
BEGIN:STANDARD
TZOFFSETFROM:+0000
TZOFFSETTO:+0000
TZNAME:UTC
DTSTART:20170101T000000
END:STANDARD
END:VTIMEZONE
BEGIN:VEVENT
DTSTART;TZID=UTC:20181009T070000
DTEND;TZID=UTC:20181009T083000
DTSTAMP:20260420T071927
CREATED:20180907T134115Z
LAST-MODIFIED:20181008T163211Z
UID:216-1539068400-1539073800@pcwaa-az.org
SUMMARY:Board Meeting
DESCRIPTION:Regular monthly meeting
URL:https://pcwaa-az.org/event/board-meeting-7/
LOCATION:Pinal County Complex – Casa Grande\, 820 E. Cottonwood Building A\, Casa Grande\, AZ\, United States
ORGANIZER;CN="Joe Singleton":MAILTO:jsingleton@pcwaa-az.org
END:VEVENT
BEGIN:VEVENT
DTSTART;TZID=UTC:20180814T070000
DTEND;TZID=UTC:20180814T083000
DTSTAMP:20260420T071927
CREATED:20180810T174443Z
LAST-MODIFIED:20180810T174540Z
UID:213-1534230000-1534235400@pcwaa-az.org
SUMMARY:Board Meeting
DESCRIPTION:Regular monthly meeting
URL:https://pcwaa-az.org/event/board-meeting-6/
LOCATION:Pinal County Complex – Casa Grande\, 820 E. Cottonwood Building A\, Casa Grande\, AZ\, United States
ORGANIZER;CN="Joe Singleton":MAILTO:jsingleton@pcwaa-az.org
END:VEVENT
BEGIN:VEVENT
DTSTART;TZID=UTC:20180612T070000
DTEND;TZID=UTC:20180612T083000
DTSTAMP:20260420T071927
CREATED:20180607T224803Z
LAST-MODIFIED:20180607T224803Z
UID:179-1528786800-1528792200@pcwaa-az.org
SUMMARY:Board Meeting
DESCRIPTION:Regular monthly meeting
URL:https://pcwaa-az.org/event/board-meeting-5/
LOCATION:Pinal County Complex – Casa Grande\, 820 E. Cottonwood Building A\, Casa Grande\, AZ\, United States
ORGANIZER;CN="Joe Singleton":MAILTO:jsingleton@pcwaa-az.org
END:VEVENT
BEGIN:VEVENT
DTSTART;TZID=UTC:20180508T070000
DTEND;TZID=UTC:20180508T083000
DTSTAMP:20260420T071927
CREATED:20180417T203213Z
LAST-MODIFIED:20250726T121807Z
UID:141-1525762800-1525768200@pcwaa-az.org
SUMMARY:Board Meeting
DESCRIPTION:Regular monthly meeting
URL:https://pcwaa-az.org/event/board-meeting-81/
LOCATION:Pinal County Complex – Casa Grande\, 820 E. Cottonwood Building A\, Casa Grande\, AZ\, United States
ORGANIZER;CN="Joe Singleton":MAILTO:jsingleton@pcwaa-az.org
END:VEVENT
BEGIN:VEVENT
DTSTART;TZID=UTC:20180410T070000
DTEND;TZID=UTC:20180410T203000
DTSTAMP:20260420T071927
CREATED:20180417T203903Z
LAST-MODIFIED:20180417T203903Z
UID:149-1523343600-1523392200@pcwaa-az.org
SUMMARY:Board Meeting
DESCRIPTION:Regular monthly meeting
URL:https://pcwaa-az.org/event/board-meeting/
LOCATION:Pinal County Complex – Casa Grande\, 820 E. Cottonwood Building A\, Casa Grande\, AZ\, United States
ORGANIZER;CN="Joe Singleton":MAILTO:jsingleton@pcwaa-az.org
END:VEVENT
BEGIN:VEVENT
DTSTART;TZID=UTC:20180313T070000
DTEND;TZID=UTC:20180313T083000
DTSTAMP:20260420T071927
CREATED:20180417T205312Z
LAST-MODIFIED:20180417T205312Z
UID:163-1520924400-1520929800@pcwaa-az.org
SUMMARY:Board Meeting
DESCRIPTION:Regular monthly meeting
URL:https://pcwaa-az.org/event/board-meeting-4/
LOCATION:Pinal County Complex – Casa Grande\, 820 E. Cottonwood Building A\, Casa Grande\, AZ\, United States
ORGANIZER;CN="Joe Singleton":MAILTO:jsingleton@pcwaa-az.org
END:VEVENT
BEGIN:VEVENT
DTSTART;TZID=UTC:20180213T070000
DTEND;TZID=UTC:20180213T083000
DTSTAMP:20260420T071927
CREATED:20180417T205134Z
LAST-MODIFIED:20180417T205134Z
UID:161-1518505200-1518510600@pcwaa-az.org
SUMMARY:Board Meeting
DESCRIPTION:Regular monthly meeting
URL:https://pcwaa-az.org/event/board-meeting-3/
LOCATION:Pinal County Complex – Casa Grande\, 820 E. Cottonwood Building A\, Casa Grande\, AZ\, United States
ORGANIZER;CN="Joe Singleton":MAILTO:jsingleton@pcwaa-az.org
END:VEVENT
BEGIN:VEVENT
DTSTART;TZID=UTC:20180109T070000
DTEND;TZID=UTC:20180109T083000
DTSTAMP:20260420T071927
CREATED:20180417T205024Z
LAST-MODIFIED:20180417T205814Z
UID:159-1515481200-1515486600@pcwaa-az.org
SUMMARY:Board Meeting
DESCRIPTION:Regular monthly meeting \n  \n 
URL:https://pcwaa-az.org/event/board-meeting-2/
LOCATION:Pinal County Complex – Casa Grande\, 820 E. Cottonwood Building A\, Casa Grande\, AZ\, United States
ORGANIZER;CN="Joe Singleton":MAILTO:jsingleton@pcwaa-az.org
END:VEVENT
END:VCALENDAR