BEGIN:VCALENDAR
VERSION:2.0
PRODID:-//Pinal County Water Augmentation Authority - ECPv6.15.20//NONSGML v1.0//EN
CALSCALE:GREGORIAN
METHOD:PUBLISH
X-ORIGINAL-URL:https://pcwaa-az.org
X-WR-CALDESC:Events for Pinal County Water Augmentation Authority
REFRESH-INTERVAL;VALUE=DURATION:PT1H
X-Robots-Tag:noindex
X-PUBLISHED-TTL:PT1H
BEGIN:VTIMEZONE
TZID:UTC
BEGIN:STANDARD
TZOFFSETFROM:+0000
TZOFFSETTO:+0000
TZNAME:UTC
DTSTART:20190101T000000
END:STANDARD
END:VTIMEZONE
BEGIN:VEVENT
DTSTART;TZID=UTC:20200211T070000
DTEND;TZID=UTC:20200211T090000
DTSTAMP:20260419T182952
CREATED:20200207T203203Z
LAST-MODIFIED:20200207T203222Z
UID:482-1581404400-1581411600@pcwaa-az.org
SUMMARY:Board Meeting
DESCRIPTION:Regular monthly meeting
URL:https://pcwaa-az.org/event/board-meeting-22/
LOCATION:Pinal County Complex – Casa Grande\, 820 E. Cottonwood Building A\, Casa Grande\, AZ\, United States
ORGANIZER;CN="Joe Singleton":MAILTO:jsingleton@pcwaa-az.org
END:VEVENT
BEGIN:VEVENT
DTSTART;TZID=UTC:20200302T100000
DTEND;TZID=UTC:20200302T120000
DTSTAMP:20260419T182952
CREATED:20200213T185157Z
LAST-MODIFIED:20200213T185157Z
UID:489-1583143200-1583150400@pcwaa-az.org
SUMMARY:Possible Quorum of the PCWAA
DESCRIPTION:The Pinal AMA Water Supply Stakeholder Group will hold a meeting in Florence beginning at 10:00 A.M. A quorum of the Pinal County Water Augmentation Authority may be present at the meeting.  The Authority will take no action at this meeting.
URL:https://pcwaa-az.org/event/possible-quorum-of-the-pcwaa-4/
LOCATION:Pinal County Administrative Comlex – BOS Hearing Room\, 135 N. Pinal Street\, Florence\, AZ\, 85132\, United States
END:VEVENT
BEGIN:VEVENT
DTSTART;TZID=UTC:20200310T070000
DTEND;TZID=UTC:20200310T090000
DTSTAMP:20260419T182952
CREATED:20200307T004150Z
LAST-MODIFIED:20200307T004150Z
UID:492-1583823600-1583830800@pcwaa-az.org
SUMMARY:Board Meeting
DESCRIPTION:Regular monthly meeting
URL:https://pcwaa-az.org/event/board-meeting-23/
LOCATION:Pinal County Complex – Casa Grande\, 820 E. Cottonwood Building A\, Casa Grande\, AZ\, United States
ORGANIZER;CN="Joe Singleton":MAILTO:jsingleton@pcwaa-az.org
END:VEVENT
BEGIN:VEVENT
DTSTART;TZID=UTC:20200324T113000
DTEND;TZID=UTC:20200324T120000
DTSTAMP:20260419T182952
CREATED:20200319T183120Z
LAST-MODIFIED:20200319T183120Z
UID:497-1585049400-1585051200@pcwaa-az.org
SUMMARY:Board Meeting
DESCRIPTION:Special meeting to ratify the acts taken at the March 10\, 2020 meeting due to the meeting date being incorrectly listed on the public notice.  The acts include approval of the minutes of the February 11\, 2020 meeting\, the list of bills and treasurer’s report from March 10\, 2020\, approval of the proposal from Extraordinary Balance for PCWAA Strategic Plan ($12\,000) and approval of creating a position paper with respect to artificially stranded wells and unmet demands in the 2019 ADWR Ground Water Model.  The draft minutes of the March 10\, 2020 meeting contain additional detail of the discussion associated with these items.
URL:https://pcwaa-az.org/event/board-meeting-24/
LOCATION:Pinal County Complex – Casa Grande\, 820 E. Cottonwood Building A\, Casa Grande\, AZ\, United States
ORGANIZER;CN="Joe Singleton":MAILTO:jsingleton@pcwaa-az.org
END:VEVENT
BEGIN:VEVENT
DTSTART;TZID=UTC:20200512T070000
DTEND;TZID=UTC:20200512T083000
DTSTAMP:20260419T182952
CREATED:20200508T222501Z
LAST-MODIFIED:20200508T222501Z
UID:509-1589266800-1589272200@pcwaa-az.org
SUMMARY:Board Meeting
DESCRIPTION:Regular monthly meeting.  NOTE – Due to impacts of the COVID-19 pandemic\, this meeting will be held remotely through technological means\, as permitted under Arizona law.  Members of the public may participate via telephone by dialing +1-910-745-6721 at the appropriate time and entering 510377179# when prompted.
URL:https://pcwaa-az.org/event/board-meeting-25/
ORGANIZER;CN="Joe Singleton":MAILTO:jsingleton@pcwaa-az.org
END:VEVENT
BEGIN:VEVENT
DTSTART;TZID=UTC:20200609T070000
DTEND;TZID=UTC:20200609T083000
DTSTAMP:20260419T182952
CREATED:20200605T154854Z
LAST-MODIFIED:20200605T154854Z
UID:523-1591686000-1591691400@pcwaa-az.org
SUMMARY:Board Meeting
DESCRIPTION:Regular monthly meeting.  NOTE – Due to impacts of the COVID-19 pandemic\, this meeting will be held\, in part\, remotely through technological means\, as permitted under Arizona law.  Members of the public are encouraged to participate via telephone by dialing +1-405-796-6013 at the appropriate time and entering 689136723# when prompted.
URL:https://pcwaa-az.org/event/board-meeting-26/
LOCATION:Pinal County Complex – Casa Grande\, 820 E. Cottonwood Building A\, Casa Grande\, AZ\, United States
ORGANIZER;CN="Joe Singleton":MAILTO:jsingleton@pcwaa-az.org
END:VEVENT
BEGIN:VEVENT
DTSTART;TZID=UTC:20200810T110000
DTEND;TZID=UTC:20200810T120000
DTSTAMP:20260419T182952
CREATED:20200806T183905Z
LAST-MODIFIED:20200806T183905Z
UID:534-1597057200-1597060800@pcwaa-az.org
SUMMARY:Possible Quorum of the PCWAA
DESCRIPTION:The Pinal AMA Water Supply Stakeholder Group will hold a meeting 11:00 A.M. A quorum of the Pinal County Water Augmentation Authority may be present at the meeting.  The Authority will take no action at this meeting.
URL:https://pcwaa-az.org/event/possible-quorum-of-the-pcwaa-5/
END:VEVENT
BEGIN:VEVENT
DTSTART;TZID=UTC:20200811T070000
DTEND;TZID=UTC:20200811T083000
DTSTAMP:20260419T182952
CREATED:20200806T183800Z
LAST-MODIFIED:20200806T183800Z
UID:536-1597129200-1597134600@pcwaa-az.org
SUMMARY:Board Meeting
DESCRIPTION:Regular monthly meeting.  NOTE – Due to impacts of the COVID-19 pandemic\, this meeting will be held\, in part\, remotely through technological means\, as permitted under Arizona law.  Members of the public are encouraged to participate via telephone by dialing +1-405-792-0655 at the appropriate time and entering 433877366# when prompted.
URL:https://pcwaa-az.org/event/board-meeting-27/
ORGANIZER;CN="Joe Singleton":MAILTO:jsingleton@pcwaa-az.org
END:VEVENT
BEGIN:VEVENT
DTSTART;TZID=UTC:20201013T070000
DTEND;TZID=UTC:20201013T083000
DTSTAMP:20260419T182952
CREATED:20201010T001053Z
LAST-MODIFIED:20250726T121758Z
UID:545-1602572400-1602577800@pcwaa-az.org
SUMMARY:Board Meeting
DESCRIPTION:Regular monthly meeting.  NOTE – Due to impacts of the COVID-19 pandemic\, this meeting will be held\, in part\, remotely through technological means\, as permitted under Arizona law.  Members of the public are encouraged to participate via telephone by dialing +1-252-584-0155 at the appropriate time and entering 533766414# when prompted.
URL:https://pcwaa-az.org/event/board-meeting-80/
ORGANIZER;CN="Joe Singleton":MAILTO:jsingleton@pcwaa-az.org
END:VEVENT
BEGIN:VEVENT
DTSTART;TZID=UTC:20201110T070000
DTEND;TZID=UTC:20201110T083000
DTSTAMP:20260419T182952
CREATED:20201106T184137Z
LAST-MODIFIED:20201106T184137Z
UID:552-1604991600-1604997000@pcwaa-az.org
SUMMARY:Board Meeting
DESCRIPTION:Regular monthly meeting.  NOTE – Due to impacts of the COVID-19 pandemic\, this meeting will be held\, in part\, remotely through technological means\, as permitted under Arizona law.  Members of the public are encouraged to participate via telephone by dialing +1-585-364-2166 at the appropriate time and entering 537114534# when prompted. \nPursuant to A.R.S. Section 38-431.02(A)(1)\, public notice is hereby given that a QUORUM of the Pinal AMA Groundwater Users Advisory Council may be present during the meeting.  No business on behalf of the Groundwater Users Advisory Council will be discussed or voted upon.
URL:https://pcwaa-az.org/event/board-meeting-28/
ORGANIZER;CN="Joe Singleton":MAILTO:jsingleton@pcwaa-az.org
END:VEVENT
BEGIN:VEVENT
DTSTART;TZID=UTC:20201208T070000
DTEND;TZID=UTC:20201208T090000
DTSTAMP:20260419T182952
CREATED:20201203T230922Z
LAST-MODIFIED:20201203T230922Z
UID:568-1607410800-1607418000@pcwaa-az.org
SUMMARY:Board Meeting
DESCRIPTION:Regular monthly meeting.  NOTE – Due to impacts of the COVID-19 pandemic\, this meeting will be held\, in part\, remotely through technological means\, as permitted under Arizona law.  Members of the public are encouraged to participate via telephone by dialing +1-413-384-6704 at the appropriate time and entering 650582636# when prompted. \nPursuant to A.R.S. Section 38-431.02(A)(1)\, public notice is hereby given that a QUORUM of the Pinal AMA Groundwater Users Advisory Council may be present during the meeting.  No business on behalf of the Groundwater Users Advisory Council will be discussed or voted upon.
URL:https://pcwaa-az.org/event/board-meeting-29/
ORGANIZER;CN="Joe Singleton":MAILTO:jsingleton@pcwaa-az.org
END:VEVENT
BEGIN:VEVENT
DTSTART;TZID=UTC:20210112T070000
DTEND;TZID=UTC:20210112T083000
DTSTAMP:20260419T182952
CREATED:20210109T194432Z
LAST-MODIFIED:20210109T194432Z
UID:574-1610434800-1610440200@pcwaa-az.org
SUMMARY:Board Meeting
DESCRIPTION:Regular monthly meeting.  NOTE – Due to impacts of the COVID-19 pandemic\, this meeting will be held\, in part\, remotely through technological means\, as permitted under Arizona law.  Members of the public are encouraged to participate via telephone by dialing +1-417-719-7668 at the appropriate time and entering 342424723# when prompted. \nPursuant to A.R.S. Section 38-431.02(A)(1)\, public notice is hereby given that a QUORUM of the Pinal AMA Groundwater Users Advisory Council may be present during the meeting.  No business on behalf of the Groundwater Users Advisory Council will be discussed or voted upon.
URL:https://pcwaa-az.org/event/board-meeting-30/
ORGANIZER;CN="Joe Singleton":MAILTO:jsingleton@pcwaa-az.org
END:VEVENT
BEGIN:VEVENT
DTSTART;TZID=UTC:20210128T080000
DTEND;TZID=UTC:20210128T120000
DTSTAMP:20260419T182952
CREATED:20210128T005907Z
LAST-MODIFIED:20210128T005907Z
UID:588-1611820800-1611835200@pcwaa-az.org
SUMMARY:Special Board Meeting
DESCRIPTION:Special Board meeting for members to work with facilitator in order to develop a new strategic plan for the Pinal County water Augmentation Authority.  The meeting is taking place via Zoom conference at the following link: https://zoom.us/j/97907675647?pwd=eXNSbDMrVXV0U2N1RWxiQ2dlR2hVdz09 \n 
URL:https://pcwaa-az.org/event/special-board-meeting-5/
ORGANIZER;CN="Joe Singleton":MAILTO:jsingleton@pcwaa-az.org
END:VEVENT
BEGIN:VEVENT
DTSTART;TZID=UTC:20210204T090000
DTEND;TZID=UTC:20210204T110000
DTSTAMP:20260419T182952
CREATED:20210203T202444Z
LAST-MODIFIED:20210203T202519Z
UID:590-1612429200-1612436400@pcwaa-az.org
SUMMARY:Special Board Meeting
DESCRIPTION:Special Board meeting for members to work with facilitator in order to develop a new strategic plan for the Pinal County water Augmentation Authority.  The meeting is taking place via Zoom conference at the following link: \nhttps://zoom.us/j/97907675647?pwd=eXNSbDMrVXV0U2N1RWxiQ2dlR2hVdz09 \nMeeting ID: 979 0767 5647\nPasscode: 636781\nOne tap mobile\n+16699006833\,\,97907675647# US (San Jose)\n+12532158782\,\,97907675647# US (Tacoma) \nDial by your location\n+1 669 900 6833 US (San Jose)\n+1 253 215 8782 US (Tacoma)\n+1 346 248 7799 US (Houston)\n+1 646 876 9923 US (New York)\n+1 301 715 8592 US (Washington DC)\n+1 312 626 6799 US (Chicago)\nMeeting ID: 979 0767 5647\nFind your local number: https://zoom.us/u/ad4hhXl5eP \n  \n 
URL:https://pcwaa-az.org/event/special-board-meeting-6/
ORGANIZER;CN="Joe Singleton":MAILTO:jsingleton@pcwaa-az.org
END:VEVENT
BEGIN:VEVENT
DTSTART;TZID=UTC:20210209T070000
DTEND;TZID=UTC:20210209T083000
DTSTAMP:20260419T182952
CREATED:20210205T204051Z
LAST-MODIFIED:20210205T204051Z
UID:607-1612854000-1612859400@pcwaa-az.org
SUMMARY:Board Meeting
DESCRIPTION:Regular monthly meeting.  NOTE – Due to impacts of the COVID-19 pandemic\, this meeting will be held\, in part\, remotely through technological means\, as permitted under Arizona law.  Members of the public are encouraged to participate via telephone by dialing +1-786-681-1948 at the appropriate time and entering 552212526# when prompted. \nPursuant to A.R.S. Section 38-431.02(A)(1)\, public notice is hereby given that a QUORUM of the Pinal AMA Groundwater Users Advisory Council may be present during the meeting.  No business on behalf of the Groundwater Users Advisory Council will be discussed or voted upon.
URL:https://pcwaa-az.org/event/board-meeting-31/
ORGANIZER;CN="Joe Singleton":MAILTO:jsingleton@pcwaa-az.org
END:VEVENT
BEGIN:VEVENT
DTSTART;TZID=UTC:20210211T090000
DTEND;TZID=UTC:20210211T110000
DTSTAMP:20260419T182952
CREATED:20210203T202639Z
LAST-MODIFIED:20210203T202729Z
UID:592-1613034000-1613041200@pcwaa-az.org
SUMMARY:Special Board Meeting
DESCRIPTION:Special Board meeting for members to work with facilitator in order to develop a new strategic plan for the Pinal County water Augmentation Authority.  The meeting is taking place via Zoom conference at the following link: \nhttps://zoom.us/j/98303235738?pwd=VWhSM3hrUmxxcDlCTjB3bzhaU0tFZz09 \nMeeting ID: 983 0323 5738\nPasscode: 636781\nOne tap mobile\n+12532158782\,\,98303235738# US (Tacoma)\n+13462487799\,\,98303235738# US (Houston) \nDial by your location\n+1 253 215 8782 US (Tacoma)\n+1 346 248 7799 US (Houston)\n+1 669 900 6833 US (San Jose)\n+1 301 715 8592 US (Washington DC)\n+1 312 626 6799 US (Chicago)\n+1 646 876 9923 US (New York)\nMeeting ID: 983 0323 5738\nFind your local number: https://zoom.us/u/ajS9yEcqK
URL:https://pcwaa-az.org/event/special-board-meeting-7/
ORGANIZER;CN="Joe Singleton":MAILTO:jsingleton@pcwaa-az.org
END:VEVENT
BEGIN:VEVENT
DTSTART;TZID=UTC:20210304T100000
DTEND;TZID=UTC:20210304T110000
DTSTAMP:20260419T182952
CREATED:20210302T211644Z
LAST-MODIFIED:20210302T211651Z
UID:616-1614852000-1614855600@pcwaa-az.org
SUMMARY:Special Board Meeting
DESCRIPTION:Topic: PCWAA Statutory Authority \nTime: Mar 4\, 2021 10:00 AM Arizona \nJoin Zoom Meeting \nhttps://zoom.us/j/8443095369?pwd=MDh6SklwV05DdTh6c3BEeXVQUElzQT09 \nMeeting ID: 844 309 5369 \nPasscode: 1zyATW \nOne tap mobile \n+16699006833\,\,8443095369#\,\,\,\,*452791# US (San Jose) \n+12532158782\,\,8443095369#\,\,\,\,*452791# US (Tacoma) \nDial by your location \n+1 669 900 6833 US (San Jose) \n+1 253 215 8782 US (Tacoma) \n+1 346 248 7799 US (Houston) \n+1 408 638 0968 US (San Jose) \n+1 301 715 8592 US (Washington DC) \n+1 312 626 6799 US (Chicago) \n+1 646 876 9923 US (New York) \nMeeting ID: 844 309 5369 \nPasscode: 452791 \nFind your local number: https://zoom.us/u/acsAIvvQd
URL:https://pcwaa-az.org/event/special-board-meeting-8/
ORGANIZER;CN="Joe Singleton":MAILTO:jsingleton@pcwaa-az.org
END:VEVENT
BEGIN:VEVENT
DTSTART;TZID=UTC:20210309T070000
DTEND;TZID=UTC:20210309T083000
DTSTAMP:20260419T182952
CREATED:20210305T190509Z
LAST-MODIFIED:20210305T190509Z
UID:621-1615273200-1615278600@pcwaa-az.org
SUMMARY:Board Meeting
DESCRIPTION:Regular monthly meeting.  NOTE – Due to impacts of the COVID-19 pandemic\, this meeting will be held\, in part\, remotely through technological means\, as permitted under Arizona law.  Members of the public are encouraged to participate via telephone by dialing +1-219-304-6422 at the appropriate time and entering 252783841# when prompted. \nPursuant to A.R.S. Section 38-431.02(A)(1)\, public notice is hereby given that a QUORUM of the Pinal AMA Groundwater Users Advisory Council may be present during the meeting.  No business on behalf of the Groundwater Users Advisory Council will be discussed or voted upon.
URL:https://pcwaa-az.org/event/board-meeting-32/
ORGANIZER;CN="Joe Singleton":MAILTO:jsingleton@pcwaa-az.org
END:VEVENT
BEGIN:VEVENT
DTSTART;TZID=UTC:20210316T090000
DTEND;TZID=UTC:20210316T100000
DTSTAMP:20260419T182952
CREATED:20210312T170147Z
LAST-MODIFIED:20210312T170147Z
UID:631-1615885200-1615888800@pcwaa-az.org
SUMMARY:Special Board Meeting
DESCRIPTION:Meeting for finalization of PCWAA Strategic and Action Plans \nTopic: PCWAA Strategic and Action Plans\nTime: Mar 16\, 2021 09:00 AM Arizona \nJoin Zoom Meeting\nhttps://zoom.us/j/98705609379?pwd=aHhwWUZiOXVrK1FFMnFVT0lTM3BIQT09 \nMeeting ID: 987 0560 9379\nPasscode: 962081\nOne tap mobile\n+13462487799\,\,98705609379#\,\,\,\,*962081# US (Houston)\n+14086380968\,\,98705609379#\,\,\,\,*962081# US (San Jose) \nDial by your location\n+1 346 248 7799 US (Houston)\n+1 408 638 0968 US (San Jose)\n+1 669 900 6833 US (San Jose)\n+1 253 215 8782 US (Tacoma)\n+1 301 715 8592 US (Washington DC)\n+1 312 626 6799 US (Chicago)\n+1 646 876 9923 US (New York)\nMeeting ID: 987 0560 9379\nPasscode: 962081\nFind your local number: https://zoom.us/u/a9fUi8Tsi \n 
URL:https://pcwaa-az.org/event/special-board-meeting-9/
ORGANIZER;CN="Joe Singleton":MAILTO:jsingleton@pcwaa-az.org
END:VEVENT
BEGIN:VEVENT
DTSTART;TZID=UTC:20210413T070000
DTEND;TZID=UTC:20210413T083000
DTSTAMP:20260419T182952
CREATED:20210410T003427Z
LAST-MODIFIED:20210410T003427Z
UID:638-1618297200-1618302600@pcwaa-az.org
SUMMARY:Board Meeting
DESCRIPTION:Regular monthly meeting.  NOTE – Due to impacts of the COVID-19 pandemic\, this meeting will be held\, in part\, remotely through technological means\, as permitted under Arizona law.  Members of the public are encouraged to participate via telephone by dialing +1-413-276-6173 at the appropriate time and entering 658757503# when prompted. \nPursuant to A.R.S. Section 38-431.02(A)(1)\, public notice is hereby given that a QUORUM of the Pinal AMA Groundwater Users Advisory Council may be present during the meeting.  No business on behalf of the Groundwater Users Advisory Council will be discussed or voted upon.
URL:https://pcwaa-az.org/event/board-meeting-33/
ORGANIZER;CN="Joe Singleton":MAILTO:jsingleton@pcwaa-az.org
END:VEVENT
BEGIN:VEVENT
DTSTART;TZID=UTC:20210511T070000
DTEND;TZID=UTC:20210511T083000
DTSTAMP:20260419T182952
CREATED:20210506T225459Z
LAST-MODIFIED:20210506T225459Z
UID:647-1620716400-1620721800@pcwaa-az.org
SUMMARY:Board Meeting
DESCRIPTION:Regular monthly meeting.  NOTE – Due to impacts of the COVID-19 pandemic\, this meeting will be held\, in part\, remotely through technological means\, as permitted under Arizona law.  Members of the public are encouraged to participate via telephone by dialing +1-669-900-6833 at the appropriate time and entering # when prompted for a participant ID\, 8443095369# for a meeting ID\, and 452791# for a passcode. \nPursuant to A.R.S. Section 38-431.02(A)(1)\, public notice is hereby given that a QUORUM of the Pinal AMA Groundwater Users Advisory Council may be present during the meeting.  No business on behalf of the Groundwater Users Advisory Council will be discussed or voted upon.
URL:https://pcwaa-az.org/event/board-meeting-34/
ORGANIZER;CN="Joe Singleton":MAILTO:jsingleton@pcwaa-az.org
END:VEVENT
BEGIN:VEVENT
DTSTART;TZID=UTC:20210608T070000
DTEND;TZID=UTC:20210608T203000
DTSTAMP:20260419T182952
CREATED:20210605T000807Z
LAST-MODIFIED:20210605T000818Z
UID:656-1623135600-1623184200@pcwaa-az.org
SUMMARY:Board Meeting
DESCRIPTION:Regular monthly meeting.  NOTE – Due to impacts of the COVID-19 pandemic\, this meeting will be held\, in part\, remotely through technological means\, as permitted under Arizona law.  Members of the public are encouraged to participate via telephone by dialing +1 602-892-5315 at the appropriate time and entering 699955777# when prompted. \nPursuant to A.R.S. Section 38-431.02(A)(1)\, public notice is hereby given that a QUORUM of the Pinal AMA Groundwater Users Advisory Council may be present during the meeting.  No business on behalf of the Groundwater Users Advisory Council will be discussed or voted upon.
URL:https://pcwaa-az.org/event/board-meeting-35/
ORGANIZER;CN="Joe Singleton":MAILTO:jsingleton@pcwaa-az.org
END:VEVENT
BEGIN:VEVENT
DTSTART;TZID=UTC:20210609T090000
DTEND;TZID=UTC:20210609T110000
DTSTAMP:20260419T182952
CREATED:20210608T171435Z
LAST-MODIFIED:20210608T171435Z
UID:658-1623229200-1623236400@pcwaa-az.org
SUMMARY:Special Board Meeting
DESCRIPTION:Topic: PCWAA-Discuss Targeted Aquifer Recharge \nTime: Jun 9\, 2021 09:00 AM Arizona \nJoin Zoom Meeting \nhttps://zoom.us/j/92946207688?pwd=MSs4R0xWRk5iR1V5NG9zNzFLT0w5Zz09 \nMeeting ID: 929 4620 7688 \nPasscode: 183877 \nOne tap mobile \n+12532158782\,\,92946207688#\,\,\,\,*183877# US (Tacoma) \n+13462487799\,\,92946207688#\,\,\,\,*183877# US (Houston) \n  \nDial by your location \n+1 253 215 8782 US (Tacoma) \n+1 346 248 7799 US (Houston) \n+1 408 638 0968 US (San Jose) \n+1 669 900 6833 US (San Jose) \n+1 646 876 9923 US (New York) \n+1 301 715 8592 US (Washington DC) \n+1 312 626 6799 US (Chicago) \nMeeting ID: 929 4620 7688 \nPasscode: 183877 \nFind your local number: https://zoom.us/u/aPLpwndB
URL:https://pcwaa-az.org/event/special-board-meeting-10/
ORGANIZER;CN="Joe Singleton":MAILTO:jsingleton@pcwaa-az.org
END:VEVENT
BEGIN:VEVENT
DTSTART;TZID=UTC:20210713T070000
DTEND;TZID=UTC:20210713T090000
DTSTAMP:20260419T182952
CREATED:20210709T175628Z
LAST-MODIFIED:20210709T175628Z
UID:665-1626159600-1626166800@pcwaa-az.org
SUMMARY:Special Board Meeting
DESCRIPTION:Topic: PCWAA-Strategic Plan implementation \nTime: Jul 13\, 2021 07:00 AM Arizona \nJoin Zoom Meeting \nhttps://zoom.us/j/8443095369?pwd=MDh6SklwV05DdTh6c3BEeXVQUElzQT09 \nMeeting ID: 844 309 5369 \nPasscode: 1zyATW \nOne tap mobile \n+16699006833\,\,8443095369#\,\,\,\,*452791# US (San Jose) \n+12532158782\,\,8443095369#\,\,\,\,*452791# US (Tacoma) \n  \nDial by your location \n+1 669 900 6833 US (San Jose) \n+1 253 215 8782 US (Tacoma) \n+1 346 248 7799 US (Houston) \n+1 408 638 0968 US (San Jose) \n+1 301 715 8592 US (Washington DC) \n+1 312 626 6799 US (Chicago) \n+1 646 876 9923 US (New York) \nMeeting ID: 844 309 5369 \nPasscode: 452791 \nFind your local number: https://zoom.us/u/acsAIvvQd
URL:https://pcwaa-az.org/event/special-board-meeting-11/
ORGANIZER;CN="Joe Singleton":MAILTO:jsingleton@pcwaa-az.org
END:VEVENT
BEGIN:VEVENT
DTSTART;TZID=UTC:20210810T070000
DTEND;TZID=UTC:20210810T083000
DTSTAMP:20260419T182952
CREATED:20210804T213904Z
LAST-MODIFIED:20210804T213904Z
UID:670-1628578800-1628584200@pcwaa-az.org
SUMMARY:Board Meeting
DESCRIPTION:Regular monthly meeting.  NOTE – Due to impacts of the COVID-19 pandemic\, this meeting will be held\, in part\, remotely through technological means\, as permitted under Arizona law.  Members of the public are encouraged to participate via telephone by dialing +1-530-425-6760 at the appropriate time and entering 845146488# when prompted. \nPursuant to A.R.S. Section 38-431.02(A)(1)\, public notice is hereby given that a QUORUM of the Pinal AMA Groundwater Users Advisory Council may be present during the meeting.  No business on behalf of the Groundwater Users Advisory Council will be discussed or voted upon.
URL:https://pcwaa-az.org/event/board-meeting-36/
ORGANIZER;CN="Joe Singleton":MAILTO:jsingleton@pcwaa-az.org
END:VEVENT
BEGIN:VEVENT
DTSTART;TZID=UTC:20210914T070000
DTEND;TZID=UTC:20210914T083000
DTSTAMP:20260419T182952
CREATED:20210910T221252Z
LAST-MODIFIED:20210910T221252Z
UID:680-1631602800-1631608200@pcwaa-az.org
SUMMARY:Board Meeting
DESCRIPTION:Regular monthly meeting.  NOTE – Due to impacts of the COVID-19 pandemic\, this meeting will be held\, in part\, remotely through technological means\, as permitted under Arizona law.  Members of the public are encouraged to participate via telephone by dialing +1-301-857-2629 at the appropriate time and entering 446989345# when prompted. \nPursuant to A.R.S. Section 38-431.02(A)(1)\, public notice is hereby given that a QUORUM of the Pinal AMA Groundwater Users Advisory Council may be present during the meeting.  No business on behalf of the Groundwater Users Advisory Council will be discussed or voted upon.
URL:https://pcwaa-az.org/event/board-meeting-37/
ORGANIZER;CN="Joe Singleton":MAILTO:jsingleton@pcwaa-az.org
END:VEVENT
BEGIN:VEVENT
DTSTART;TZID=UTC:20211001T110000
DTEND;TZID=UTC:20211001T120000
DTSTAMP:20260419T182952
CREATED:20210930T200526Z
LAST-MODIFIED:20210930T200526Z
UID:689-1633086000-1633089600@pcwaa-az.org
SUMMARY:Special Board Meeting
DESCRIPTION:Emergency Board meeting to discuss and/or approve moving forward with PCWAA exploring becoming the lead agency in administering funds for assisting Pinal agricultural districts. \nJoin Zoom Meeting\nhttps://us06web.zoom.us/j/88324636166?pwd=Zlk3OTJ1eU1TQVlCNTF3a0Qyc0toUT09 \nMeeting ID: 883 2463 6166\nPasscode: 797690\nOne tap mobile\n+14086380968\,\,88324636166#\,\,\,\,*797690# US (San Jose)\n+16699006833\,\,88324636166#\,\,\,\,*797690# US (San Jose) \nDial by your location\n+1 408 638 0968 US (San Jose)\n+1 669 900 6833 US (San Jose)\n+1 253 215 8782 US (Tacoma)\n+1 346 248 7799 US (Houston)\n+1 312 626 6799 US (Chicago)\n+1 646 876 9923 US (New York)\n+1 301 715 8592 US (Washington DC)\nMeeting ID: 883 2463 6166\nPasscode: 797690\nFind your local number: https://us06web.zoom.us/u/kdloLpwHQV
URL:https://pcwaa-az.org/event/special-board-meeting-12/
ORGANIZER;CN="Joe Singleton":MAILTO:jsingleton@pcwaa-az.org
END:VEVENT
BEGIN:VEVENT
DTSTART;TZID=UTC:20211012T070000
DTEND;TZID=UTC:20211012T083000
DTSTAMP:20260419T182952
CREATED:20211008T201410Z
LAST-MODIFIED:20211008T201617Z
UID:697-1634022000-1634027400@pcwaa-az.org
SUMMARY:Board Meeting
DESCRIPTION:Regular monthly meeting.  NOTE – Due to impacts of the COVID-19 pandemic\, this meeting will be held\, in part\, remotely through technological means\, as permitted under Arizona law.  Members of the public are encouraged to participate via telephone by dialing +1-443-671-4919 at the appropriate time and entering 471009625 when prompted. \nPursuant to A.R.S. Section 38-431.02(A)(1)\, public notice is hereby given that a QUORUM of the Pinal AMA Groundwater Users Advisory Council may be present during the meeting.  No business on behalf of the Groundwater Users Advisory Council will be discussed or voted upon.
URL:https://pcwaa-az.org/event/board-meeting-38/
ORGANIZER;CN="Joe Singleton":MAILTO:jsingleton@pcwaa-az.org
END:VEVENT
BEGIN:VEVENT
DTSTART;TZID=UTC:20211109T070000
DTEND;TZID=UTC:20211109T083000
DTSTAMP:20260419T182952
CREATED:20211105T215439Z
LAST-MODIFIED:20211105T215439Z
UID:708-1636441200-1636446600@pcwaa-az.org
SUMMARY:Board Meeting
DESCRIPTION:Regular monthly meeting.  NOTE – Due to impacts of the COVID-19 pandemic\, this meeting will be held\, in part\, remotely through technological means\, as permitted under Arizona law.  Members of the public are encouraged to participate via telephone by dialing +1-414-436-8795 at the appropriate time and entering 111428212 when prompted. \nPursuant to A.R.S. Section 38-431.02(A)(1)\, public notice is hereby given that a QUORUM of the Pinal AMA Groundwater Users Advisory Council may be present during the meeting.  No business on behalf of the Groundwater Users Advisory Council will be discussed or voted upon.
URL:https://pcwaa-az.org/event/board-meeting-39/
ORGANIZER;CN="Joe Singleton":MAILTO:jsingleton@pcwaa-az.org
END:VEVENT
BEGIN:VEVENT
DTSTART;TZID=UTC:20211207T070000
DTEND;TZID=UTC:20211207T083000
DTSTAMP:20260419T182952
CREATED:20211230T232453Z
LAST-MODIFIED:20211230T232637Z
UID:727-1638860400-1638865800@pcwaa-az.org
SUMMARY:Board Meeting
DESCRIPTION:Regular monthly meeting.  NOTE – Due to impacts of the COVID-19 pandemic\, this meeting will be held\, in part\, remotely through technological means\, as permitted under Arizona law.  Members of the public are encouraged to participate via telephone by dialing +1-402-787-1497 at the appropriate time and entering 121769063 when prompted. \nPursuant to A.R.S. Section 38-431.02(A)(1)\, public notice is hereby given that a QUORUM of the Pinal AMA Groundwater Users Advisory Council may be present during the meeting.  No business on behalf of the Groundwater Users Advisory Council will be discussed or voted upon.
URL:https://pcwaa-az.org/event/board-meeting-41/
ORGANIZER;CN="Joe Singleton":MAILTO:jsingleton@pcwaa-az.org
END:VEVENT
END:VCALENDAR