BEGIN:VCALENDAR
VERSION:2.0
PRODID:-//Pinal County Water Augmentation Authority - ECPv6.15.20//NONSGML v1.0//EN
CALSCALE:GREGORIAN
METHOD:PUBLISH
X-ORIGINAL-URL:https://pcwaa-az.org
X-WR-CALDESC:Events for Pinal County Water Augmentation Authority
REFRESH-INTERVAL;VALUE=DURATION:PT1H
X-Robots-Tag:noindex
X-PUBLISHED-TTL:PT1H
BEGIN:VTIMEZONE
TZID:UTC
BEGIN:STANDARD
TZOFFSETFROM:+0000
TZOFFSETTO:+0000
TZNAME:UTC
DTSTART:20240101T000000
END:STANDARD
END:VTIMEZONE
BEGIN:VEVENT
DTSTART;TZID=UTC:20251209T070000
DTEND;TZID=UTC:20251209T093000
DTSTAMP:20260420T050240
CREATED:20251205T163748Z
LAST-MODIFIED:20251205T163748Z
UID:1323-1765263600-1765272600@pcwaa-az.org
SUMMARY:Board Meeting
DESCRIPTION:Regular monthly meeting.  NOTE – This meeting will be held\, in part\, remotely through technological means\, as permitted under Arizona law.  Members of the public are encouraged to participate via telephone by dialing +1-814-876-5969 at the appropriate time and entering 742557026 when prompted. \nThe Authority may vote to go into Executive Session\, pursuant to A.R.S. Section 38-431.03(A)(1)\, (3) or (4)\, which will not be open to the public\, to consult with its attorneys and to receive legal advice with respect to any regular agenda item listed on this agenda. \nPursuant to A.R.S. Section 38-431.02\, public notice is hereby given that the public will have physical access to the meeting room at 6:50 a.m. \nPursuant to A.R.S. Section 38-431.02(A)(1)\, public notice is hereby given that a QUORUM of the Pinal AMA Groundwater Users Advisory Council may be present during the meeting.  No business on behalf of the Groundwater Users Advisory Council will be discussed or voted upon.
URL:https://pcwaa-az.org/event/board-meeting-85/
LOCATION:Pinal County Complex – Casa Grande\, 820 E. Cottonwood Building A\, Casa Grande\, AZ\, United States
ORGANIZER;CN="Joe Singleton":MAILTO:jsingleton@pcwaa-az.org
END:VEVENT
BEGIN:VEVENT
DTSTART;TZID=UTC:20260113T070000
DTEND;TZID=UTC:20260113T090000
DTSTAMP:20260420T050240
CREATED:20260109T174320Z
LAST-MODIFIED:20260109T174320Z
UID:1334-1768287600-1768294800@pcwaa-az.org
SUMMARY:Board Meeting
DESCRIPTION:Regular monthly meeting.  NOTE – This meeting will be held\, in part\, remotely through technological means\, as permitted under Arizona law.  Members of the public are encouraged to participate via telephone by dialing +1-864-513-2135 at the appropriate time and entering 607996389 when prompted. \nThe Authority may vote to go into Executive Session\, pursuant to A.R.S. Section 38-431.03(A)(1)\, (3) or (4)\, which will not be open to the public\, to consult with its attorneys and to receive legal advice with respect to any regular agenda item listed on this agenda. \nPursuant to A.R.S. Section 38-431.02\, public notice is hereby given that the public will have physical access to the meeting room at 6:50 a.m. \nPursuant to A.R.S. Section 38-431.02(A)(1)\, public notice is hereby given that a QUORUM of the Pinal AMA Groundwater Users Advisory Council may be present during the meeting.  No business on behalf of the Groundwater Users Advisory Council will be discussed or voted upon.
URL:https://pcwaa-az.org/event/board-meeting-86/
LOCATION:Pinal County Complex – Casa Grande\, 820 E. Cottonwood Building A\, Casa Grande\, AZ\, United States
ORGANIZER;CN="Joe Singleton":MAILTO:jsingleton@pcwaa-az.org
END:VEVENT
BEGIN:VEVENT
DTSTART;TZID=UTC:20260127T100000
DTEND;TZID=UTC:20260127T110000
DTSTAMP:20260420T050240
CREATED:20260123T171713Z
LAST-MODIFIED:20260123T171713Z
UID:1350-1769508000-1769511600@pcwaa-az.org
SUMMARY:Special Meeting
DESCRIPTION:Special meeting.  NOTE – This meeting will be held remotely through technological means\, as permitted under Arizona law.  Members of the public are encouraged to participate via telephone by dialing +1-346-248-7799 at the appropriate time and entering 823 6641 8608 for the meeting ID and 036819 for the passcode when prompted. \nThe Authority may vote to go into Executive Session\, pursuant to A.R.S. Section 38-431.03(A)(1)\, (3) or (4)\, which will not be open to the public\, to consult with its attorneys and to receive legal advice with respect to any regular agenda item listed on this agenda. \nPursuant to A.R.S. Section 38-431.02(A)(1)\, public notice is hereby given that a QUORUM of the Pinal AMA Groundwater Users Advisory Council may be present during the meeting.  No business on behalf of the Groundwater Users Advisory Council will be discussed or voted upon.
URL:https://pcwaa-az.org/event/special-meeting-3/
LOCATION:AZ
ORGANIZER;CN="Joe Singleton":MAILTO:jsingleton@pcwaa-az.org
END:VEVENT
BEGIN:VEVENT
DTSTART;TZID=UTC:20260210T070000
DTEND;TZID=UTC:20260210T090000
DTSTAMP:20260420T050240
CREATED:20260205T193117Z
LAST-MODIFIED:20260205T193117Z
UID:1357-1770706800-1770714000@pcwaa-az.org
SUMMARY:Board Meeting
DESCRIPTION:Regular monthly meeting.  NOTE – This meeting will be held\, in part\, remotely through technological means\, as permitted under Arizona law.  Members of the public are encouraged to participate via telephone by dialing +1-951-901-6076 at the appropriate time and entering 845872813 when prompted. \nThe Authority may vote to go into Executive Session\, pursuant to A.R.S. Section 38-431.03(A)(1)\, (3) or (4)\, which will not be open to the public\, to consult with its attorneys and to receive legal advice with respect to any regular agenda item listed on this agenda. \nPursuant to A.R.S. Section 38-431.02\, public notice is hereby given that the public will have physical access to the meeting room at 6:50 a.m. \nPursuant to A.R.S. Section 38-431.02(A)(1)\, public notice is hereby given that a QUORUM of the Pinal AMA Groundwater Users Advisory Council may be present during the meeting.  No business on behalf of the Groundwater Users Advisory Council will be discussed or voted upon.
URL:https://pcwaa-az.org/event/board-meeting-87/
LOCATION:Pinal County Complex – Casa Grande\, 820 E. Cottonwood Building A\, Casa Grande\, AZ\, United States
ORGANIZER;CN="Joe Singleton":MAILTO:jsingleton@pcwaa-az.org
END:VEVENT
BEGIN:VEVENT
DTSTART;TZID=UTC:20260310T070000
DTEND;TZID=UTC:20260310T090000
DTSTAMP:20260420T050240
CREATED:20260307T053628Z
LAST-MODIFIED:20260307T053628Z
UID:1367-1773126000-1773133200@pcwaa-az.org
SUMMARY:Board Meeting
DESCRIPTION:Regular monthly meeting.  NOTE – This meeting will be held\, in part\, remotely through technological means\, as permitted under Arizona law.  Members of the public are encouraged to participate via telephone by dialing +1-515-518-4548 at the appropriate time and entering 556646162 when prompted. \nThe Authority may vote to go into Executive Session\, pursuant to A.R.S. Section 38-431.03(A)(1)\, (3) or (4)\, which will not be open to the public\, to consult with its attorneys and to receive legal advice with respect to any regular agenda item listed on this agenda. \nPursuant to A.R.S. Section 38-431.02\, public notice is hereby given that the public will have physical access to the meeting room at 6:50 a.m. \nPursuant to A.R.S. Section 38-431.02(A)(1)\, public notice is hereby given that a QUORUM of the Pinal AMA Groundwater Users Advisory Council may be present during the meeting.  No business on behalf of the Groundwater Users Advisory Council will be discussed or voted upon.
URL:https://pcwaa-az.org/event/board-meeting-88/
LOCATION:Pinal County Complex – Casa Grande\, 820 E. Cottonwood Building A\, Casa Grande\, AZ\, United States
ORGANIZER;CN="Joe Singleton":MAILTO:jsingleton@pcwaa-az.org
END:VEVENT
BEGIN:VEVENT
DTSTART;TZID=UTC:20260414T070000
DTEND;TZID=UTC:20260414T090000
DTSTAMP:20260420T050240
CREATED:20260409T213719Z
LAST-MODIFIED:20260409T213719Z
UID:1379-1776150000-1776157200@pcwaa-az.org
SUMMARY:Board Meeting
DESCRIPTION:Regular monthly meeting.  NOTE – This meeting will be held\, in part\, remotely through technological means\, as permitted under Arizona law.  Members of the public are encouraged to participate via telephone by dialing +1-929-277-9661 at the appropriate time and entering 297271785 when prompted. \nThe Authority may vote to go into Executive Session\, pursuant to A.R.S. Section 38-431.03(A)(1)\, (3) or (4)\, which will not be open to the public\, to consult with its attorneys and to receive legal advice with respect to any regular agenda item listed on this agenda. \nPursuant to A.R.S. Section 38-431.02\, public notice is hereby given that the public will have physical access to the meeting room at 6:50 a.m. \nPursuant to A.R.S. Section 38-431.02(A)(1)\, public notice is hereby given that a QUORUM of the Pinal AMA Groundwater Users Advisory Council may be present during the meeting.  No business on behalf of the Groundwater Users Advisory Council will be discussed or voted upon.
URL:https://pcwaa-az.org/event/board-meeting-89/
LOCATION:Pinal County Complex – Casa Grande\, 820 E. Cottonwood Building A\, Casa Grande\, AZ\, United States
ORGANIZER;CN="Joe Singleton":MAILTO:jsingleton@pcwaa-az.org
END:VEVENT
END:VCALENDAR