BEGIN:VCALENDAR
VERSION:2.0
PRODID:-//Pinal County Water Augmentation Authority - ECPv6.15.20//NONSGML v1.0//EN
CALSCALE:GREGORIAN
METHOD:PUBLISH
X-WR-CALNAME:Pinal County Water Augmentation Authority
X-ORIGINAL-URL:https://pcwaa-az.org
X-WR-CALDESC:Events for Pinal County Water Augmentation Authority
REFRESH-INTERVAL;VALUE=DURATION:PT1H
X-Robots-Tag:noindex
X-PUBLISHED-TTL:PT1H
BEGIN:VTIMEZONE
TZID:UTC
BEGIN:STANDARD
TZOFFSETFROM:+0000
TZOFFSETTO:+0000
TZNAME:UTC
DTSTART:20250101T000000
END:STANDARD
END:VTIMEZONE
BEGIN:VEVENT
DTSTART;TZID=UTC:20260428T110000
DTEND;TZID=UTC:20260428T120000
DTSTAMP:20260423T190525
CREATED:20260423T175735Z
LAST-MODIFIED:20260423T175735Z
UID:1388-1777374000-1777377600@pcwaa-az.org
SUMMARY:Board Meeting
DESCRIPTION:Special meeting.  NOTE – This meeting will be held remotely through technological means\, as permitted under Arizona law.  Members of the public are encouraged to participate via telephone by dialing +1-253-215-8782 at the appropriate time and entering 87165010358 for the meeting ID and 660939 for the passcode when prompted. \nThe Authority may vote to go into Executive Session\, pursuant to A.R.S. Section 38-431.03(A)(1)\, (3) or (4)\, which will not be open to the public\, to consult with its attorneys and to receive legal advice with respect to any regular agenda item listed on this agenda. \nPursuant to A.R.S. Section 38-431.02(A)(1)\, public notice is hereby given that a QUORUM of the Pinal AMA Groundwater Users Advisory Council may be present during the meeting.  No business on behalf of the Groundwater Users Advisory Council will be discussed or voted upon.
URL:https://pcwaa-az.org/event/board-meeting-90/
LOCATION:AZ
END:VEVENT
END:VCALENDAR