BEGIN:VCALENDAR
VERSION:2.0
PRODID:-//Pinal County Water Augmentation Authority - ECPv6.15.20//NONSGML v1.0//EN
CALSCALE:GREGORIAN
METHOD:PUBLISH
X-ORIGINAL-URL:https://pcwaa-az.org
X-WR-CALDESC:Events for Pinal County Water Augmentation Authority
REFRESH-INTERVAL;VALUE=DURATION:PT1H
X-Robots-Tag:noindex
X-PUBLISHED-TTL:PT1H
BEGIN:VTIMEZONE
TZID:UTC
BEGIN:STANDARD
TZOFFSETFROM:+0000
TZOFFSETTO:+0000
TZNAME:UTC
DTSTART:20180101T000000
END:STANDARD
END:VTIMEZONE
BEGIN:VEVENT
DTSTART;TZID=UTC:20190304T093000
DTEND;TZID=UTC:20190304T120000
DTSTAMP:20260419T182707
CREATED:20190228T234818Z
LAST-MODIFIED:20190228T235904Z
UID:290-1551691800-1551700800@pcwaa-az.org
SUMMARY:Special Board Meeting
DESCRIPTION:Special Board meeting to hear information on drought\, the Drought Contingency Plan\, and Pinal AMA impacts \nFor a map of the Central Arizona College Signal Peak campus that shows parking and the location of the buildings\, please see the CAC website at https://centralaz.edu/locations/signal-peak-campus/
URL:https://pcwaa-az.org/event/special-board-meeting/
LOCATION:Central Arizona College – Signal Peak Campus – Student Union\, 8470 N. Overfield Road\, Coolidge\, AZ\, 85128
ORGANIZER;CN="Joe Singleton":MAILTO:jsingleton@pcwaa-az.org
END:VEVENT
BEGIN:VEVENT
DTSTART;TZID=UTC:20190312T070000
DTEND;TZID=UTC:20190312T083000
DTSTAMP:20260419T182707
CREATED:20190308T041238Z
LAST-MODIFIED:20190308T041238Z
UID:299-1552374000-1552379400@pcwaa-az.org
SUMMARY:Board Meeting
DESCRIPTION:Regular monthly meeting
URL:https://pcwaa-az.org/event/board-meeting-11/
LOCATION:AZ
ORGANIZER;CN="Joe Singleton":MAILTO:jsingleton@pcwaa-az.org
END:VEVENT
END:VCALENDAR