BEGIN:VCALENDAR
VERSION:2.0
PRODID:-//Pinal County Water Augmentation Authority - ECPv6.15.20//NONSGML v1.0//EN
CALSCALE:GREGORIAN
METHOD:PUBLISH
X-ORIGINAL-URL:https://pcwaa-az.org
X-WR-CALDESC:Events for Pinal County Water Augmentation Authority
REFRESH-INTERVAL;VALUE=DURATION:PT1H
X-Robots-Tag:noindex
X-PUBLISHED-TTL:PT1H
BEGIN:VTIMEZONE
TZID:UTC
BEGIN:STANDARD
TZOFFSETFROM:+0000
TZOFFSETTO:+0000
TZNAME:UTC
DTSTART:20180101T000000
END:STANDARD
END:VTIMEZONE
BEGIN:VEVENT
DTSTART;TZID=UTC:20190719T130000
DTEND;TZID=UTC:20190719T150000
DTSTAMP:20260419T151910
CREATED:20190715T034640Z
LAST-MODIFIED:20250726T121803Z
UID:358-1563541200-1563548400@pcwaa-az.org
SUMMARY:CANCELED - Special Board Meeting
DESCRIPTION:Due to a scheduling conflict\, the Special Board meeting for work session with U.S. Representative Tom O’Halleran is CANCELED
URL:https://pcwaa-az.org/event/canceled-special-board-meeting/
LOCATION:Pinal County Complex – Casa Grande\, 820 E. Cottonwood Building A\, Casa Grande\, AZ\, United States
ORGANIZER;CN="Joe Singleton":MAILTO:jsingleton@pcwaa-az.org
END:VEVENT
BEGIN:VEVENT
DTSTART;TZID=UTC:20190722T101500
DTEND;TZID=UTC:20190722T111500
DTSTAMP:20260419T151910
CREATED:20190718T101722Z
LAST-MODIFIED:20190718T101722Z
UID:367-1563790500-1563794100@pcwaa-az.org
SUMMARY:Special Board Meeting
DESCRIPTION:Work session meeting with Congressman Tom O’Halleran
URL:https://pcwaa-az.org/event/special-board-meeting-3/
LOCATION:Pinal County Complex – Casa Grande\, 820 E. Cottonwood Building A\, Casa Grande\, AZ\, United States
ORGANIZER;CN="Joe Singleton":MAILTO:jsingleton@pcwaa-az.org
END:VEVENT
END:VCALENDAR