BEGIN:VCALENDAR
VERSION:2.0
PRODID:-//Pinal County Water Augmentation Authority - ECPv6.15.20//NONSGML v1.0//EN
CALSCALE:GREGORIAN
METHOD:PUBLISH
X-WR-CALNAME:Pinal County Water Augmentation Authority
X-ORIGINAL-URL:https://pcwaa-az.org
X-WR-CALDESC:Events for Pinal County Water Augmentation Authority
REFRESH-INTERVAL;VALUE=DURATION:PT1H
X-Robots-Tag:noindex
X-PUBLISHED-TTL:PT1H
BEGIN:VTIMEZONE
TZID:UTC
BEGIN:STANDARD
TZOFFSETFROM:+0000
TZOFFSETTO:+0000
TZNAME:UTC
DTSTART:20180101T000000
END:STANDARD
END:VTIMEZONE
BEGIN:VEVENT
DTSTART;TZID=UTC:20190909T100000
DTEND;TZID=UTC:20190909T120000
DTSTAMP:20260419T151436
CREATED:20190905T174004Z
LAST-MODIFIED:20190905T174016Z
UID:388-1568023200-1568030400@pcwaa-az.org
SUMMARY:Possible Quorum of the PCWAA
DESCRIPTION:The Babbit Center for Land and Water Policy\, in conjunction with the Water Resources Research Center will be holding an open public meeting to solicit input on regional water issues and efforts to confront them.  A quorum of the Pinal County Water Augmentation Authority may be present at the meeting.  The Authority will take no action at this meeting.
URL:https://pcwaa-az.org/event/possible-quorum-of-the-pcwaa/
LOCATION:Florence Community Center\, 778 N. Main St.\, Florence\, AZ\, 85132\, United States
END:VEVENT
BEGIN:VEVENT
DTSTART;TZID=UTC:20190910T070000
DTEND;TZID=UTC:20190910T083000
DTSTAMP:20260419T151436
CREATED:20190906T072408Z
LAST-MODIFIED:20190906T072408Z
UID:393-1568098800-1568104200@pcwaa-az.org
SUMMARY:Board Meeting
DESCRIPTION:Regular monthly meeting
URL:https://pcwaa-az.org/event/board-meeting-16/
LOCATION:Pinal County Complex – Casa Grande\, 820 E. Cottonwood Building A\, Casa Grande\, AZ\, United States
ORGANIZER;CN="Joe Singleton":MAILTO:jsingleton@pcwaa-az.org
END:VEVENT
BEGIN:VEVENT
DTSTART;TZID=UTC:20190919T140000
DTEND;TZID=UTC:20190919T150000
DTSTAMP:20260419T151436
CREATED:20190917T164552Z
LAST-MODIFIED:20190917T164552Z
UID:402-1568901600-1568905200@pcwaa-az.org
SUMMARY:Special Board Meeting
DESCRIPTION:Special meeting of the Board to deliberate proceeding with negotiations to engage a lobbyist to work on PCWAA issues
URL:https://pcwaa-az.org/event/special-board-meeting-4/
LOCATION:Pinal County Complex – Casa Grande\, 820 E. Cottonwood Building A\, Casa Grande\, AZ\, United States
ORGANIZER;CN="Joe Singleton":MAILTO:jsingleton@pcwaa-az.org
END:VEVENT
END:VCALENDAR