BEGIN:VCALENDAR
VERSION:2.0
PRODID:-//Pinal County Water Augmentation Authority - ECPv6.15.20//NONSGML v1.0//EN
CALSCALE:GREGORIAN
METHOD:PUBLISH
X-WR-CALNAME:Pinal County Water Augmentation Authority
X-ORIGINAL-URL:https://pcwaa-az.org
X-WR-CALDESC:Events for Pinal County Water Augmentation Authority
REFRESH-INTERVAL;VALUE=DURATION:PT1H
X-Robots-Tag:noindex
X-PUBLISHED-TTL:PT1H
BEGIN:VTIMEZONE
TZID:UTC
BEGIN:STANDARD
TZOFFSETFROM:+0000
TZOFFSETTO:+0000
TZNAME:UTC
DTSTART:20180101T000000
END:STANDARD
END:VTIMEZONE
BEGIN:VEVENT
DTSTART;TZID=UTC:20191209T100000
DTEND;TZID=UTC:20191209T120000
DTSTAMP:20260419T182508
CREATED:20191206T195759Z
LAST-MODIFIED:20191206T195759Z
UID:454-1575885600-1575892800@pcwaa-az.org
SUMMARY:Possible Quorum of the PCWAA
DESCRIPTION:The Pinal AMA Water Supply Stakeholder Group will hold a meeting in Florence beginning at 10:00 A.M. A quorum of the Pinal County Water Augmentation Authority may be present at the meeting.  The Authority will take no action at this meeting.
URL:https://pcwaa-az.org/event/possible-quorum-of-the-pcwaa-3/
LOCATION:Pinal County Administrative Complex – Ironwood Room\, 135 N. Pinal Street\, Florence\, AZ\, 85132\, United Kingdom
END:VEVENT
BEGIN:VEVENT
DTSTART;TZID=UTC:20191210T070000
DTEND;TZID=UTC:20191210T203000
DTSTAMP:20260419T182508
CREATED:20191206T195914Z
LAST-MODIFIED:20191206T195914Z
UID:457-1575961200-1576009800@pcwaa-az.org
SUMMARY:Board Meeting
DESCRIPTION:Regular monthly meeting
URL:https://pcwaa-az.org/event/board-meeting-20/
LOCATION:Pinal County Complex – Casa Grande\, 820 E. Cottonwood Building A\, Casa Grande\, AZ\, United States
ORGANIZER;CN="Joe Singleton":MAILTO:jsingleton@pcwaa-az.org
END:VEVENT
END:VCALENDAR