BEGIN:VCALENDAR
VERSION:2.0
PRODID:-//Pinal County Water Augmentation Authority - ECPv6.15.20//NONSGML v1.0//EN
CALSCALE:GREGORIAN
METHOD:PUBLISH
X-ORIGINAL-URL:https://pcwaa-az.org
X-WR-CALDESC:Events for Pinal County Water Augmentation Authority
REFRESH-INTERVAL;VALUE=DURATION:PT1H
X-Robots-Tag:noindex
X-PUBLISHED-TTL:PT1H
BEGIN:VTIMEZONE
TZID:UTC
BEGIN:STANDARD
TZOFFSETFROM:+0000
TZOFFSETTO:+0000
TZNAME:UTC
DTSTART:20200101T000000
END:STANDARD
END:VTIMEZONE
BEGIN:VEVENT
DTSTART;TZID=UTC:20210608T070000
DTEND;TZID=UTC:20210608T203000
DTSTAMP:20260421T002011
CREATED:20210605T000807Z
LAST-MODIFIED:20210605T000818Z
UID:656-1623135600-1623184200@pcwaa-az.org
SUMMARY:Board Meeting
DESCRIPTION:Regular monthly meeting.  NOTE – Due to impacts of the COVID-19 pandemic\, this meeting will be held\, in part\, remotely through technological means\, as permitted under Arizona law.  Members of the public are encouraged to participate via telephone by dialing +1 602-892-5315 at the appropriate time and entering 699955777# when prompted. \nPursuant to A.R.S. Section 38-431.02(A)(1)\, public notice is hereby given that a QUORUM of the Pinal AMA Groundwater Users Advisory Council may be present during the meeting.  No business on behalf of the Groundwater Users Advisory Council will be discussed or voted upon.
URL:https://pcwaa-az.org/event/board-meeting-35/
LOCATION:AZ
ORGANIZER;CN="Joe Singleton":MAILTO:jsingleton@pcwaa-az.org
END:VEVENT
BEGIN:VEVENT
DTSTART;TZID=UTC:20210609T090000
DTEND;TZID=UTC:20210609T110000
DTSTAMP:20260421T002011
CREATED:20210608T171435Z
LAST-MODIFIED:20210608T171435Z
UID:658-1623229200-1623236400@pcwaa-az.org
SUMMARY:Special Board Meeting
DESCRIPTION:Topic: PCWAA-Discuss Targeted Aquifer Recharge \nTime: Jun 9\, 2021 09:00 AM Arizona \nJoin Zoom Meeting \nhttps://zoom.us/j/92946207688?pwd=MSs4R0xWRk5iR1V5NG9zNzFLT0w5Zz09 \nMeeting ID: 929 4620 7688 \nPasscode: 183877 \nOne tap mobile \n+12532158782\,\,92946207688#\,\,\,\,*183877# US (Tacoma) \n+13462487799\,\,92946207688#\,\,\,\,*183877# US (Houston) \n  \nDial by your location \n+1 253 215 8782 US (Tacoma) \n+1 346 248 7799 US (Houston) \n+1 408 638 0968 US (San Jose) \n+1 669 900 6833 US (San Jose) \n+1 646 876 9923 US (New York) \n+1 301 715 8592 US (Washington DC) \n+1 312 626 6799 US (Chicago) \nMeeting ID: 929 4620 7688 \nPasscode: 183877 \nFind your local number: https://zoom.us/u/aPLpwndB
URL:https://pcwaa-az.org/event/special-board-meeting-10/
LOCATION:AZ
ORGANIZER;CN="Joe Singleton":MAILTO:jsingleton@pcwaa-az.org
END:VEVENT
END:VCALENDAR