BEGIN:VCALENDAR
VERSION:2.0
PRODID:-//Pinal County Water Augmentation Authority - ECPv6.15.20//NONSGML v1.0//EN
CALSCALE:GREGORIAN
METHOD:PUBLISH
X-WR-CALNAME:Pinal County Water Augmentation Authority
X-ORIGINAL-URL:https://pcwaa-az.org
X-WR-CALDESC:Events for Pinal County Water Augmentation Authority
REFRESH-INTERVAL;VALUE=DURATION:PT1H
X-Robots-Tag:noindex
X-PUBLISHED-TTL:PT1H
BEGIN:VTIMEZONE
TZID:UTC
BEGIN:STANDARD
TZOFFSETFROM:+0000
TZOFFSETTO:+0000
TZNAME:UTC
DTSTART:20210101T000000
END:STANDARD
END:VTIMEZONE
BEGIN:VEVENT
DTSTART;TZID=UTC:20220208T070000
DTEND;TZID=UTC:20220208T083000
DTSTAMP:20260421T125154
CREATED:20220204T133741Z
LAST-MODIFIED:20220204T133741Z
UID:733-1644303600-1644309000@pcwaa-az.org
SUMMARY:Board Meeting
DESCRIPTION:Regular monthly meeting.  NOTE – Due to impacts of the COVID-19 pandemic\, this meeting will be held\, in part\, remotely through technological means\, as permitted under Arizona law.  Members of the public are encouraged to participate via telephone by dialing +1-502-622-8119 at the appropriate time and entering 782356403 when prompted. \nPursuant to A.R.S. Section 38-431.02(A)(1)\, public notice is hereby given that a QUORUM of the Pinal AMA Groundwater Users Advisory Council may be present during the meeting.  No business on behalf of the Groundwater Users Advisory Council will be discussed or voted upon.
URL:https://pcwaa-az.org/event/board-meeting-42/
LOCATION:AZ
ORGANIZER;CN="Joe Singleton":MAILTO:jsingleton@pcwaa-az.org
END:VEVENT
BEGIN:VEVENT
DTSTART;TZID=UTC:20220224T090000
DTEND;TZID=UTC:20220224T110000
DTSTAMP:20260421T125154
CREATED:20220222T222918Z
LAST-MODIFIED:20220222T223311Z
UID:742-1645693200-1645700400@pcwaa-az.org
SUMMARY:Special Board Meeting
DESCRIPTION:Special meeting.  NOTE – Due to impacts of the COVID-19 pandemic\, this meeting will be held\, in part\, remotely through technological means\, as permitted under Arizona law.  Members of the public are encouraged to participate via telephone by dialing +1-669-900-6883 at the appropriate time and entering 8443095369# when prompted\, and 452791# when prompted again. \nPursuant to A.R.S. Section 38-431.02(A)(1)\, public notice is hereby given that a QUORUM of the Pinal AMA Groundwater Users Advisory Council may be present during the meeting.  No business on behalf of the Groundwater Users Advisory Council will be discussed or voted upon.
URL:https://pcwaa-az.org/event/special-board-meeting-13/
LOCATION:AZ
ORGANIZER;CN="Joe Singleton":MAILTO:jsingleton@pcwaa-az.org
END:VEVENT
END:VCALENDAR