BEGIN:VCALENDAR
VERSION:2.0
PRODID:-//Pinal County Water Augmentation Authority - ECPv6.15.20//NONSGML v1.0//EN
CALSCALE:GREGORIAN
METHOD:PUBLISH
X-WR-CALNAME:Pinal County Water Augmentation Authority
X-ORIGINAL-URL:https://pcwaa-az.org
X-WR-CALDESC:Events for Pinal County Water Augmentation Authority
REFRESH-INTERVAL;VALUE=DURATION:PT1H
X-Robots-Tag:noindex
X-PUBLISHED-TTL:PT1H
BEGIN:VTIMEZONE
TZID:UTC
BEGIN:STANDARD
TZOFFSETFROM:+0000
TZOFFSETTO:+0000
TZNAME:UTC
DTSTART:20210101T000000
END:STANDARD
END:VTIMEZONE
BEGIN:VEVENT
DTSTART;TZID=UTC:20221213T070000
DTEND;TZID=UTC:20221213T083000
DTSTAMP:20260422T061148
CREATED:20221222T211701Z
LAST-MODIFIED:20221222T211701Z
UID:854-1670914800-1670920200@pcwaa-az.org
SUMMARY:Board Meeting
DESCRIPTION:Regular monthly meeting.  NOTE – This meeting will be held\, in part\, remotely through technological means\, as permitted under Arizona law.  Members of the public are encouraged to participate via telephone by dialing +1-267-317-3852 at the appropriate time and entering 341104252 when prompted. \nPursuant to A.R.S. Section 38-431.02(A)(1)\, public notice is hereby given that a QUORUM of the Pinal AMA Groundwater Users Advisory Council may be present during the meeting.  No business on behalf of the Groundwater Users Advisory Council will be discussed or voted upon.
URL:https://pcwaa-az.org/event/board-meeting-51/
LOCATION:Pinal County Administrative Comlex – BOS Hearing Room\, 135 N. Pinal Street\, Florence\, AZ\, 85132\, United States
END:VEVENT
END:VCALENDAR