BEGIN:VCALENDAR
VERSION:2.0
PRODID:-//Pinal County Water Augmentation Authority - ECPv6.15.20//NONSGML v1.0//EN
CALSCALE:GREGORIAN
METHOD:PUBLISH
X-WR-CALNAME:Pinal County Water Augmentation Authority
X-ORIGINAL-URL:https://pcwaa-az.org
X-WR-CALDESC:Events for Pinal County Water Augmentation Authority
REFRESH-INTERVAL;VALUE=DURATION:PT1H
X-Robots-Tag:noindex
X-PUBLISHED-TTL:PT1H
BEGIN:VTIMEZONE
TZID:UTC
BEGIN:STANDARD
TZOFFSETFROM:+0000
TZOFFSETTO:+0000
TZNAME:UTC
DTSTART:20230101T000000
END:STANDARD
END:VTIMEZONE
BEGIN:VEVENT
DTSTART;TZID=UTC:20241008T070000
DTEND;TZID=UTC:20241008T090000
DTSTAMP:20260420T002403
CREATED:20241003T225957Z
LAST-MODIFIED:20241003T225957Z
UID:1114-1728370800-1728378000@pcwaa-az.org
SUMMARY:Board Meeting
DESCRIPTION:Regular monthly meeting.  NOTE – This meeting will be held remotely through technological means\, as permitted under Arizona law.  Members of the public are encouraged to participate via telephone by dialing +1-253-205-0468 at the appropriate time and entering 84963867255# and 377609# when prompted. \nThe Authority may vote to go into Executive Session\, pursuant to A.R.S. Section 38-431.03(A)(1)\, (3) or (4)\, which will not be open to the public\, to consult with its attorneys and to receive legal advice with respect to any regular agenda item listed on this agenda. \nPursuant to A.R.S. Section 38-431.02(A)(1)\, public notice is hereby given that a QUORUM of the Pinal AMA Groundwater Users Advisory Council may be present during the meeting.  No business on behalf of the Groundwater Users Advisory Council will be discussed or voted upon.
URL:https://pcwaa-az.org/event/board-meeting-71/
LOCATION:AZ
ORGANIZER;CN="Joe Singleton":MAILTO:jsingleton@pcwaa-az.org
END:VEVENT
END:VCALENDAR